BEGIN:VCALENDAR
VERSION:2.0
PRODID:-//Maardu Kultuuri- ja Infokeskus - ECPv4.6.12//NONSGML v1.0//EN
CALSCALE:GREGORIAN
METHOD:PUBLISH
X-WR-CALNAME:Maardu Kultuuri- ja Infokeskus
X-ORIGINAL-URL:https://mkik.ee
X-WR-CALDESC:Events for Maardu Kultuuri- ja Infokeskus
BEGIN:VEVENT
DTSTART;TZID=UTC+3:20211231T190000
DTEND;TZID=UTC+3:20211231T190000
DTSTAMP:20260422T075433
CREATED:20211220T091552Z
LAST-MODIFIED:20211220T091552Z
UID:2572-1640977200-1640977200@mkik.ee
SUMMARY:Kohtumised näärivanaga Maardus
DESCRIPTION: \n
URL:https://mkik.ee/event/kohtumised-naarivanaga-maardus/
ATTACH;FMTTYPE=image/png:https://mkik.ee/wp-content/uploads/2021/12/kohtumised-näärivanaga-Maardus.png
END:VEVENT
END:VCALENDAR