BEGIN:VCALENDAR
VERSION:2.0
PRODID:-//Maardu Kultuuri- ja Infokeskus - ECPv4.6.12//NONSGML v1.0//EN
CALSCALE:GREGORIAN
METHOD:PUBLISH
X-WR-CALNAME:Maardu Kultuuri- ja Infokeskus
X-ORIGINAL-URL:https://mkik.ee
X-WR-CALDESC:Events for Maardu Kultuuri- ja Infokeskus
BEGIN:VEVENT
DTSTART;TZID=UTC+3:20230903T170000
DTEND;TZID=UTC+3:20230903T170000
DTSTAMP:20260424T161618
CREATED:20230823T122525Z
LAST-MODIFIED:20230823T122525Z
UID:2878-1693760400-1693760400@mkik.ee
SUMMARY:Klassikalise muusika kontsert S.Rahmaninovi loomingust
DESCRIPTION: \n
URL:https://mkik.ee/event/klassikalise-muusika-kontsert-s-rahmaninovi-loomingust/
ATTACH;FMTTYPE=image/jpeg:https://mkik.ee/wp-content/uploads/2023/08/Rahmaninov.jpg
END:VEVENT
END:VCALENDAR