BEGIN:VCALENDAR
VERSION:2.0
PRODID:-//Maardu Kultuuri- ja Infokeskus - ECPv4.6.12//NONSGML v1.0//EN
CALSCALE:GREGORIAN
METHOD:PUBLISH
X-WR-CALNAME:Maardu Kultuuri- ja Infokeskus
X-ORIGINAL-URL:https://mkik.ee
X-WR-CALDESC:Events for Maardu Kultuuri- ja Infokeskus
BEGIN:VEVENT
DTSTART;TZID=UTC+3:20241221T160000
DTEND;TZID=UTC+3:20241221T160000
DTSTAMP:20260424T140407
CREATED:20241127T134806Z
LAST-MODIFIED:20241127T134806Z
UID:3061-1734796800-1734796800@mkik.ee
SUMMARY:Jõulud pahupidi
DESCRIPTION: \n
URL:https://mkik.ee/event/joulud-pahupidi-2/
LOCATION:Karjääri 4\, Maardu\, Эстония\, 74112\, Estonia
CATEGORIES:Event
ATTACH;FMTTYPE=image/jpeg:https://mkik.ee/wp-content/uploads/2024/11/Essenia-plakat-parandatud-2024-prev-scaled.jpg
END:VEVENT
END:VCALENDAR