BEGIN:VCALENDAR
VERSION:2.0
PRODID:-//Maardu Kultuuri- ja Infokeskus - ECPv4.6.12//NONSGML v1.0//EN
CALSCALE:GREGORIAN
METHOD:PUBLISH
X-WR-CALNAME:Maardu Kultuuri- ja Infokeskus
X-ORIGINAL-URL:https://mkik.ee
X-WR-CALDESC:Events for Maardu Kultuuri- ja Infokeskus
BEGIN:VEVENT
DTSTART;TZID=UTC+3:20201129T120000
DTEND;TZID=UTC+3:20201129T120000
DTSTAMP:20260421T033111
CREATED:20201123T142543Z
LAST-MODIFIED:20201123T144945Z
UID:2402-1606651200-1606651200@mkik.ee
SUMMARY:Esimene Advent Maardus
DESCRIPTION: \nJuba sel pühapäeval\, 29. novembril kl 12.00 olete väga oodatud Kellamäe parki esimese advendiküünla süütamisele.\nEsimese advendiküünla tule me saadame ka Muugale\, kus koostöös MTÜ-ga Emade Linn toimub taas Muuga laternamatk. Kogunemine lasteaia parklas kl 15.00. Kui oled terve\, siis tule kindlasti kohale!\nOled väga-väga oodatud!\n
URL:https://mkik.ee/event/esimene-advent-maardus-2/
END:VEVENT
END:VCALENDAR