BEGIN:VCALENDAR
VERSION:2.0
PRODID:-//Maardu Kultuuri- ja Infokeskus - ECPv4.6.12//NONSGML v1.0//EN
CALSCALE:GREGORIAN
METHOD:PUBLISH
X-WR-CALNAME:Maardu Kultuuri- ja Infokeskus
X-ORIGINAL-URL:https://mkik.ee
X-WR-CALDESC:Events for Maardu Kultuuri- ja Infokeskus
BEGIN:VEVENT
DTSTART;TZID=UTC+3:20230818T180000
DTEND;TZID=UTC+3:20230818T180000
DTSTAMP:20260424T144033
CREATED:20230731T083659Z
LAST-MODIFIED:20230731T083659Z
UID:2872-1692381600-1692381600@mkik.ee
SUMMARY:Eesti Vabariigi taasiseseisvumise 32. aastapäevale pühendatud kontsert
DESCRIPTION: \n
URL:https://mkik.ee/event/eesti-vabariigi-taasiseseisvumise-32-aastapaevale-puhendatud-kontsert/
LOCATION:Karjääri 4\, Maardu\, Эстония\, 74112\, Estonia
ATTACH;FMTTYPE=image/jpeg:https://mkik.ee/wp-content/uploads/2023/07/august.jpg
END:VEVENT
END:VCALENDAR