BEGIN:VCALENDAR
VERSION:2.0
PRODID:-//Maardu Kultuuri- ja Infokeskus - ECPv4.6.12//NONSGML v1.0//EN
CALSCALE:GREGORIAN
METHOD:PUBLISH
X-WR-CALNAME:Maardu Kultuuri- ja Infokeskus
X-ORIGINAL-URL:https://mkik.ee
X-WR-CALDESC:Events for Maardu Kultuuri- ja Infokeskus
BEGIN:VEVENT
DTSTART;TZID=UTC+3:20230223T170000
DTEND;TZID=UTC+3:20230223T170000
DTSTAMP:20260425T010858
CREATED:20230214T123616Z
LAST-MODIFIED:20230214T124537Z
UID:2794-1677171600-1677171600@mkik.ee
SUMMARY:EESTI VABARIIGI 105. AASTAPÄEVALE PÜHENDATUD PIDULIK KONTSERT
DESCRIPTION: \n
URL:https://mkik.ee/event/eesti-vabariigi-105-aastapaevale-puhendatud-pidulik-kontsert/
ATTACH;FMTTYPE=image/jpeg:https://mkik.ee/wp-content/uploads/2023/02/Kontsert_180x100mm.jpg
END:VEVENT
END:VCALENDAR